BEGIN:VCALENDAR
VERSION:2.0
PRODID:-//Comité Français de Courte Paume - ECPv6.2.3//NONSGML v1.0//EN
CALSCALE:GREGORIAN
METHOD:PUBLISH
X-ORIGINAL-URL:https://paumefrance.com
X-WR-CALDESC:évènements pour Comité Français de Courte Paume
REFRESH-INTERVAL;VALUE=DURATION:PT1H
X-Robots-Tag:noindex
X-PUBLISHED-TTL:PT1H
BEGIN:VTIMEZONE
TZID:Europe/Paris
BEGIN:DAYLIGHT
TZOFFSETFROM:+0100
TZOFFSETTO:+0200
TZNAME:CEST
DTSTART:20250330T010000
END:DAYLIGHT
BEGIN:STANDARD
TZOFFSETFROM:+0200
TZOFFSETTO:+0100
TZNAME:CET
DTSTART:20251026T010000
END:STANDARD
BEGIN:DAYLIGHT
TZOFFSETFROM:+0100
TZOFFSETTO:+0200
TZNAME:CEST
DTSTART:20260329T010000
END:DAYLIGHT
BEGIN:STANDARD
TZOFFSETFROM:+0200
TZOFFSETTO:+0100
TZNAME:CET
DTSTART:20261025T010000
END:STANDARD
END:VTIMEZONE
BEGIN:VEVENT
DTSTART;TZID=Europe/Paris:20250503T080000
DTEND;TZID=Europe/Paris:20250505T170000
DTSTAMP:20260423T165002
CREATED:20241023T180207Z
LAST-MODIFIED:20250326T090422Z
UID:6291-1746259200-1746464400@paumefrance.com
SUMMARY:Ladies Handicap/ Open Féminin Handicap
DESCRIPTION:Description\n\nCe tournoi international annuel est créé à Paris en 1992. Il tourne entre les trois clubs de France (Bordeaux\, Fontainebleau\, Paris) et rassemble une vingtaine de joueuses venues d’Angleterre\, d’Australie\, des États-Unis\, de France et des Pays-Bas. \n\nInscription\n\na voir directment avec Gabrielle Smart <gabrielle.smart@gmail.com
URL:https://paumefrance.com/evenement/ladies-handicap-open-feminin-handicap/
LOCATION:Jeu de Paume de Paris\, 74 ter rue Lauriston\, Paris\, 75116\, France
ATTACH;FMTTYPE=image/jpeg:https://paumefrance.com/wp-content/uploads/2023/02/img_2106-scaled.jpg
END:VEVENT
BEGIN:VEVENT
DTSTART;TZID=Europe/Paris:20260523T080000
DTEND;TZID=Europe/Paris:20260524T170000
DTSTAMP:20260423T165002
CREATED:20250709T103943Z
LAST-MODIFIED:20250714T160634Z
UID:6795-1779523200-1779642000@paumefrance.com
SUMMARY:Ladies Handicap/ Open Féminin Handicap 2026
DESCRIPTION:Description\n\nCe tournoi international annuel est créé à Paris en 1992. Il tourne entre les trois clubs de France (Bordeaux\, Fontainebleau\, Paris) et rassemble une vingtaine de joueuses venues d’Angleterre\, d’Australie\, des États-Unis\, de France et des Pays-Bas. \n\nInscription\n\nA voir directement avec le club du Bordeaux
URL:https://paumefrance.com/evenement/ladies-handicap-open-feminin-handicap-2/
LOCATION:Association Sportive du Jeu de Paume de Bordeaux\, 107 Avenue Marcel Dassault\, Mérignac\, 33700\, France
ATTACH;FMTTYPE=image/jpeg:https://paumefrance.com/wp-content/uploads/2025/07/bordeaux-wide-court-2-1.jpg
END:VEVENT
END:VCALENDAR