BEGIN:VCALENDAR
VERSION:2.0
PRODID:-//Comité Français de Courte Paume - ECPv6.2.3//NONSGML v1.0//EN
CALSCALE:GREGORIAN
METHOD:PUBLISH
X-WR-CALNAME:Comité Français de Courte Paume
X-ORIGINAL-URL:https://paumefrance.com
X-WR-CALDESC:évènements pour Comité Français de Courte Paume
REFRESH-INTERVAL;VALUE=DURATION:PT1H
X-Robots-Tag:noindex
X-PUBLISHED-TTL:PT1H
BEGIN:VTIMEZONE
TZID:Europe/Paris
BEGIN:DAYLIGHT
TZOFFSETFROM:+0100
TZOFFSETTO:+0200
TZNAME:CEST
DTSTART:20250330T010000
END:DAYLIGHT
BEGIN:STANDARD
TZOFFSETFROM:+0200
TZOFFSETTO:+0100
TZNAME:CET
DTSTART:20251026T010000
END:STANDARD
END:VTIMEZONE
BEGIN:VEVENT
DTSTART;TZID=Europe/Paris:20250516T000000
DTEND;TZID=Europe/Paris:20250518T235959
DTSTAMP:20260423T162601
CREATED:20240716T210439Z
LAST-MODIFIED:20241010T151428Z
UID:5721-1747353600-1747612799@paumefrance.com
SUMMARY:Open de France Sénior - Simple & Double
DESCRIPTION:Description\n\nL’Open de France Senior Simple & Double est un Open International qui réunit les meilleurs joueurs mondiaux de plus de 50 ans\, venus des quatre coins du globe. Cet événement de haut niveau met en compétition des athlètes en simples et en doubles\, offrant des matchs intenses et spectaculaires. Ne manquez pas cette occasion unique de voir l’expérience s’exprimer sur le court. \n\n\n\nInscription
URL:https://paumefrance.com/evenement/open-de-france-senior/
LOCATION:Association Sportive du Jeu de Paume de Bordeaux\, 107 Avenue Marcel Dassault\, Mérignac\, 33700\, France
CATEGORIES:Tournoi
ATTACH;FMTTYPE=image/jpeg:https://paumefrance.com/wp-content/uploads/2023/07/bordeaux-wide-e1751818668648.jpg
END:VEVENT
END:VCALENDAR