BEGIN:VCALENDAR
VERSION:2.0
PRODID:-//Comité Français de Courte Paume - ECPv6.2.3//NONSGML v1.0//EN
CALSCALE:GREGORIAN
METHOD:PUBLISH
X-WR-CALNAME:Comité Français de Courte Paume
X-ORIGINAL-URL:https://paumefrance.com
X-WR-CALDESC:évènements pour Comité Français de Courte Paume
REFRESH-INTERVAL;VALUE=DURATION:PT1H
X-Robots-Tag:noindex
X-PUBLISHED-TTL:PT1H
BEGIN:VTIMEZONE
TZID:Europe/Paris
BEGIN:DAYLIGHT
TZOFFSETFROM:+0100
TZOFFSETTO:+0200
TZNAME:CEST
DTSTART:20260329T010000
END:DAYLIGHT
BEGIN:STANDARD
TZOFFSETFROM:+0200
TZOFFSETTO:+0100
TZNAME:CET
DTSTART:20261025T010000
END:STANDARD
END:VTIMEZONE
BEGIN:VEVENT
DTSTART;TZID=Europe/Paris:20260612T000000
DTEND;TZID=Europe/Paris:20260613T235959
DTSTAMP:20260423T012848
CREATED:20250706T172926Z
LAST-MODIFIED:20260223T102225Z
UID:6732-1781222400-1781395199@paumefrance.com
SUMMARY:Coupe de Thélème / Coupe de Paris 2026 (nouvelle date pending)
DESCRIPTION:Coupe de Thélème/ Coupe de Paris  2026 \n\n\n\n\nDescription\n\n\n\n\nCréé par Charles-Antoyne Hurstel en 2017\, cette coupe est d’abord nommée « Antoine-Henry Masson » en mémoire du meilleur joueur du royaume de France au  XVIIIe  siècle. Il est connu comme « The Big Match » en 1767 contre l’Anglais Tomkins qui fut battu en 5 sets. Ce tournoi concerne les joueurs en France et en Angleterre avec un handicap entre 10 et 20. Un tournoi handicap était rajouté il y a qq années. \n\n\n\n\nInscription
URL:https://paumefrance.com/evenement/coupe-de-theleme-2026/
LOCATION:Jeu de Paume de Paris\, 74 ter rue Lauriston\, Paris\, 75116\, France
CATEGORIES:Tournoi
ATTACH;FMTTYPE=image/jpeg:https://paumefrance.com/wp-content/uploads/2023/07/theleme_logo_2023_730x752.jpg
END:VEVENT
END:VCALENDAR